BEGIN:VCALENDAR
VERSION:2.0
PRODID:-//hacksw/handcal//NONSGML v1.0//EN
BEGIN:VEVENT
UID:254
DTSTART;VALUE=DATE:20131213
URL;VALUE=URI:ohschonhell.at/?page_id=2740
SUMMARY:DIRTY PONYS
LOCATION:ELEKTRO GÖNNER
END:VEVENT
END:VCALENDAR


