BEGIN:VCALENDAR
VERSION:2.0
PRODID:-//hacksw/handcal//NONSGML v1.0//EN
BEGIN:VEVENT
UID:2562
DTSTART;VALUE=DATE:20141127
URL;VALUE=URI:ohschonhell.at/?page_id=5343
SUMMARY:Donnerstag Nacht mit Takt|art
LOCATION:SASS
END:VEVENT
END:VCALENDAR


