BEGIN:VCALENDAR
VERSION:2.0
PRODID:-//hacksw/handcal//NONSGML v1.0//EN
BEGIN:VEVENT
UID:2570
DTSTART;VALUE=DATE:20141128
URL;VALUE=URI:ohschonhell.at/?page_id=5350
SUMMARY:Jack by The Gap presents LAMAE LIVE (AT)
LOCATION:DUAL
END:VEVENT
END:VCALENDAR


