BEGIN:VCALENDAR
VERSION:2.0
PRODID:-//hacksw/handcal//NONSGML v1.0//EN
BEGIN:VEVENT
UID:2574
DTSTART;VALUE=DATE:20141206
URL;VALUE=URI:ohschonhell.at/?page_id=5354
SUMMARY:my favourite freaks showcase w/ MENDO {cadenza • switzerland}\, AGENT! (desolat • germany)\, PATRICK KUNKEL live
LOCATION:DIE KANTINE
END:VEVENT
END:VCALENDAR


