BEGIN:VCALENDAR
VERSION:2.0
PRODID:-//hacksw/handcal//NONSGML v1.0//EN
BEGIN:VEVENT
UID:2577
DTSTART;VALUE=DATE:20141120
URL;VALUE=URI:ohschonhell.at/?page_id=5357
SUMMARY:DJ Line im Schikaneder
LOCATION:SCHIKANEDER
END:VEVENT
END:VCALENDAR


