BEGIN:VCALENDAR
VERSION:2.0
PRODID:-//hacksw/handcal//NONSGML v1.0//EN
BEGIN:VEVENT
UID:2582
DTSTART;VALUE=DATE:20141206
URL;VALUE=URI:ohschonhell.at/?page_id=5365
SUMMARY:ALBERT&amp\;TINA Aftershow Party _ Rote Bar im Volkstheater
LOCATION:ROTE BAR
END:VEVENT
END:VCALENDAR


