BEGIN:VCALENDAR
VERSION:2.0
PRODID:-//hacksw/handcal//NONSGML v1.0//EN
BEGIN:VEVENT
UID:2585
DTSTART;VALUE=DATE:20141123
URL;VALUE=URI:ohschonhell.at/?page_id=5368
SUMMARY:Techno Brunch with Dj Mikell (Tante Emma\, Innsbruck)
LOCATION:RADIO - THE LABEL BAR
END:VEVENT
END:VCALENDAR


