BEGIN:VCALENDAR
VERSION:2.0
PRODID:-//hacksw/handcal//NONSGML v1.0//EN
BEGIN:VEVENT
UID:2593
DTSTART;VALUE=DATE:20141206
URL;VALUE=URI:ohschonhell.at/?page_id=5374
SUMMARY:PROGRESSIVE SELECTION pres. LIFEFORMS (Iono Music) live @ CAMERA CLUB
LOCATION:CAMERA CLUB
END:VEVENT
END:VCALENDAR


