BEGIN:VCALENDAR
VERSION:2.0
PRODID:-//hacksw/handcal//NONSGML v1.0//EN
BEGIN:VEVENT
UID:2611
DTSTART;VALUE=DATE:20141129
URL;VALUE=URI:ohschonhell.at/?page_id=5396
SUMMARY:WILD LIFE
LOCATION:DUAL
END:VEVENT
END:VCALENDAR


