BEGIN:VCALENDAR
VERSION:2.0
PRODID:-//hacksw/handcal//NONSGML v1.0//EN
BEGIN:VEVENT
UID:2615
DTSTART;VALUE=DATE:20141129
URL;VALUE=URI:ohschonhell.at/?page_id=5400
SUMMARY:BRETTERBODENDISKO &quot\;G.RIZO&quot\;
LOCATION:BRUT
END:VEVENT
END:VCALENDAR


