BEGIN:VCALENDAR
VERSION:2.0
PRODID:-//hacksw/handcal//NONSGML v1.0//EN
BEGIN:VEVENT
UID:2618
DTSTART;VALUE=DATE:20141205
URL;VALUE=URI:ohschonhell.at/?page_id=5403
SUMMARY:Die Kantine w/ ROBOSONIC (OFF REC.) CASIMIR &amp\; CURTIS NEWTON! bakery hosted by MALEN NACH ZAHLEN
LOCATION:DIE KANTINE
END:VEVENT
END:VCALENDAR


