BEGIN:VCALENDAR
VERSION:2.0
PRODID:-//hacksw/handcal//NONSGML v1.0//EN
BEGIN:VEVENT
UID:2637
DTSTART;VALUE=DATE:20141207
URL;VALUE=URI:ohschonhell.at/?page_id=5427
SUMMARY:Techno Brunch mit LuMar\, Martin Oelz &amp\; Patrick Dudek
LOCATION:RADIO - THE LABEL BAR
END:VEVENT
END:VCALENDAR


