BEGIN:VCALENDAR
VERSION:2.0
PRODID:-//hacksw/handcal//NONSGML v1.0//EN
BEGIN:VEVENT
UID:2651
DTSTART;VALUE=DATE:20141203
URL;VALUE=URI:ohschonhell.at/?page_id=5444
SUMMARY:#nichtauszucker - Protest in vier Akten.
LOCATION:MUSEUMSQUARTIER
END:VEVENT
END:VCALENDAR


