BEGIN:VCALENDAR
VERSION:2.0
PRODID:-//hacksw/handcal//NONSGML v1.0//EN
BEGIN:VEVENT
UID:2655
DTSTART;VALUE=DATE:20141203
URL;VALUE=URI:ohschonhell.at/?page_id=5450
SUMMARY:✫•°*”*°•DER✫TECHNO✫PUNSCH•°*”*°•✫
LOCATION:BOXIRCUS
END:VEVENT
END:VCALENDAR


