BEGIN:VCALENDAR
VERSION:2.0
PRODID:-//hacksw/handcal//NONSGML v1.0//EN
BEGIN:VEVENT
UID:2659
DTSTART;VALUE=DATE:20150124
URL;VALUE=URI:ohschonhell.at/?page_id=5456
SUMMARY:Paaarty!!! - Das FM4 Geburtstagsfest
LOCATION:OTTAKRINGER BRAUEREI
END:VEVENT
END:VCALENDAR


