BEGIN:VCALENDAR
VERSION:2.0
PRODID:-//hacksw/handcal//NONSGML v1.0//EN
BEGIN:VEVENT
UID:2662
DTSTART;VALUE=DATE:20151205
URL;VALUE=URI:ohschonhell.at/?page_id=5459
SUMMARY:Swing It!!!
LOCATION:ROTE BAR
END:VEVENT
END:VCALENDAR


