BEGIN:VCALENDAR
VERSION:2.0
PRODID:-//hacksw/handcal//NONSGML v1.0//EN
BEGIN:VEVENT
UID:2668
DTSTART;VALUE=DATE:20141213
URL;VALUE=URI:ohschonhell.at/?page_id=5466
SUMMARY:Salon Gold mit ZUCKERWATT
LOCATION:SASS
END:VEVENT
END:VCALENDAR


