BEGIN:VCALENDAR
VERSION:2.0
PRODID:-//hacksw/handcal//NONSGML v1.0//EN
BEGIN:VEVENT
UID:2675
DTSTART;VALUE=DATE:20141227
URL;VALUE=URI:ohschonhell.at/?page_id=5474
SUMMARY:Get Whipped in December!
LOCATION:VOLKSGARTEN
END:VEVENT
END:VCALENDAR


