BEGIN:VCALENDAR
VERSION:2.0
PRODID:-//hacksw/handcal//NONSGML v1.0//EN
BEGIN:VEVENT
UID:2678
DTSTART;VALUE=DATE:20141212
URL;VALUE=URI:ohschonhell.at/?page_id=5482
SUMMARY:HERMANEZ {tronic - viva music - belgium} &amp\; JACOB PHONO • die Kantine
LOCATION:DIE KANTINE
END:VEVENT
END:VCALENDAR


