BEGIN:VCALENDAR
VERSION:2.0
PRODID:-//hacksw/handcal//NONSGML v1.0//EN
BEGIN:VEVENT
UID:2694
DTSTART;VALUE=DATE:20141205
URL;VALUE=URI:ohschonhell.at/?page_id=5505
SUMMARY:Simonlebon &amp\; Jakobin all night long
LOCATION:DONAU
END:VEVENT
END:VCALENDAR


