BEGIN:VCALENDAR
VERSION:2.0
PRODID:-//hacksw/handcal//NONSGML v1.0//EN
BEGIN:VEVENT
UID:2702
DTSTART;VALUE=DATE:20141213
URL;VALUE=URI:ohschonhell.at/?page_id=5514
SUMMARY:wiener endorphine – blitzen &amp\; dancer
LOCATION:DUAL
END:VEVENT
END:VCALENDAR


