BEGIN:VCALENDAR
VERSION:2.0
PRODID:-//hacksw/handcal//NONSGML v1.0//EN
BEGIN:VEVENT
UID:2713
DTSTART;VALUE=DATE:20150117
URL;VALUE=URI:ohschonhell.at/?page_id=5542
SUMMARY:╰დ╮ॐ╭დ╯ Deeprog Winter Special with CHAMPA Live ╰დ╮ॐ╭დ╯
LOCATION:CAFE DERWISCH
END:VEVENT
END:VCALENDAR


