BEGIN:VCALENDAR
VERSION:2.0
PRODID:-//hacksw/handcal//NONSGML v1.0//EN
BEGIN:VEVENT
UID:2714
DTSTART;VALUE=DATE:20150105
URL;VALUE=URI:ohschonhell.at/?page_id=5543
SUMMARY:doublejack - Opening
LOCATION:DUAL
END:VEVENT
END:VCALENDAR


