BEGIN:VCALENDAR
VERSION:2.0
PRODID:-//hacksw/handcal//NONSGML v1.0//EN
BEGIN:VEVENT
UID:2717
DTSTART;VALUE=DATE:20141226
URL;VALUE=URI:ohschonhell.at/?page_id=5546
SUMMARY:HOT IN HERE
LOCATION:ELEKTRO GÖNNER
END:VEVENT
END:VCALENDAR


