BEGIN:VCALENDAR
VERSION:2.0
PRODID:-//hacksw/handcal//NONSGML v1.0//EN
BEGIN:VEVENT
UID:2721
DTSTART;VALUE=DATE:20141219
URL;VALUE=URI:ohschonhell.at/?page_id=5550
SUMMARY:BEAT SCIENCE #14 - Sivey (Soulection/UK) x FVLCRVM (Bratislava/SK) x Karma Art (Duzz Down San)
LOCATION:CAFE LEOPOLD
END:VEVENT
END:VCALENDAR


