BEGIN:VCALENDAR
VERSION:2.0
PRODID:-//hacksw/handcal//NONSGML v1.0//EN
BEGIN:VEVENT
UID:2724
DTSTART;VALUE=DATE:20141213
URL;VALUE=URI:ohschonhell.at/?page_id=5553
SUMMARY:ELECTRO SWING CARNEVAL presents THE SWING &amp\; TURNTABLISM SESSION feat. PRINCESS PITCH (Paris/F)
LOCATION:CAFE LEOPOLD
END:VEVENT
END:VCALENDAR


