BEGIN:VCALENDAR
VERSION:2.0
PRODID:-//hacksw/handcal//NONSGML v1.0//EN
BEGIN:VEVENT
UID:2743
DTSTART;VALUE=DATE:20150102
URL;VALUE=URI:ohschonhell.at/?page_id=5574
SUMMARY:NACHTFLUG mit GUTEN ABEND! x GUNNAR STILLER [upon.you / berlin]
LOCATION:SASS
END:VEVENT
END:VCALENDAR


