BEGIN:VCALENDAR
VERSION:2.0
PRODID:-//hacksw/handcal//NONSGML v1.0//EN
BEGIN:VEVENT
UID:2748
DTSTART;VALUE=DATE:20141213
URL;VALUE=URI:ohschonhell.at/?page_id=5579
SUMMARY:Affenzirkus goes ENDSTATION
LOCATION:ENDSTATION HALTESTELLE 1er
END:VEVENT
END:VCALENDAR


