BEGIN:VCALENDAR
VERSION:2.0
PRODID:-//hacksw/handcal//NONSGML v1.0//EN
BEGIN:VEVENT
UID:2751
DTSTART;VALUE=DATE:20141212
URL;VALUE=URI:ohschonhell.at/?page_id=5582
SUMMARY:SUPERDISKO
LOCATION:ELEKTRO GÖNNER
END:VEVENT
END:VCALENDAR


