BEGIN:VCALENDAR
VERSION:2.0
PRODID:-//hacksw/handcal//NONSGML v1.0//EN
BEGIN:VEVENT
UID:2773
DTSTART;VALUE=DATE:20141219
URL;VALUE=URI:ohschonhell.at/?page_id=5606
SUMMARY:Rotella #7 w/ SCIROX
LOCATION:KIOSK SCHLEIFMÜHLGASSE
END:VEVENT
END:VCALENDAR


