BEGIN:VCALENDAR
VERSION:2.0
PRODID:-//hacksw/handcal//NONSGML v1.0//EN
BEGIN:VEVENT
UID:2780
DTSTART;VALUE=DATE:20141231
URL;VALUE=URI:ohschonhell.at/?page_id=5617
SUMMARY:NEW YEARS EVE FREE Party with Rainer Trüby\, Megablast\, Andreas Weisz\, Aid
LOCATION:LE MÉRIDIEN
END:VEVENT
END:VCALENDAR


