BEGIN:VCALENDAR
VERSION:2.0
PRODID:-//hacksw/handcal//NONSGML v1.0//EN
BEGIN:VEVENT
UID:2784
DTSTART;VALUE=DATE:20141219
URL;VALUE=URI:ohschonhell.at/?page_id=5621
SUMMARY:Stadt Land Fluss DISCO SPECIAL @ Elektro Gönner
LOCATION:ELEKTRO GÖNNER
END:VEVENT
END:VCALENDAR


