BEGIN:VCALENDAR
VERSION:2.0
PRODID:-//hacksw/handcal//NONSGML v1.0//EN
BEGIN:VEVENT
UID:2787
DTSTART;VALUE=DATE:20141221
URL;VALUE=URI:ohschonhell.at/?page_id=5624
SUMMARY:Techno Brunch with Dominik Löblich
LOCATION:RADIO - THE LABEL BAR
END:VEVENT
END:VCALENDAR


