BEGIN:VCALENDAR
VERSION:2.0
PRODID:-//hacksw/handcal//NONSGML v1.0//EN
BEGIN:VEVENT
UID:2788
DTSTART;VALUE=DATE:20141219
URL;VALUE=URI:ohschonhell.at/?page_id=5626
SUMMARY:Mortal Wombat
LOCATION:WOMBATS THE LOUNGE
END:VEVENT
END:VCALENDAR


