BEGIN:VCALENDAR
VERSION:2.0
PRODID:-//hacksw/handcal//NONSGML v1.0//EN
BEGIN:VEVENT
UID:2834
DTSTART;VALUE=DATE:20150314
URL;VALUE=URI:ohschonhell.at/?page_id=5680
SUMMARY:DROP ZONE • • The Hardcore Clubseries with The Vinylraider
LOCATION:SPITTELAU 10
END:VEVENT
END:VCALENDAR


