BEGIN:VCALENDAR
VERSION:2.0
PRODID:-//hacksw/handcal//NONSGML v1.0//EN
BEGIN:VEVENT
UID:2850
DTSTART;VALUE=DATE:20150102
URL;VALUE=URI:ohschonhell.at/?page_id=5701
SUMMARY:TAG DER OFFENEN TÜR – free entry all night long • die Kantine
LOCATION:DIE KANTINE
END:VEVENT
END:VCALENDAR


