BEGIN:VCALENDAR
VERSION:2.0
PRODID:-//hacksw/handcal//NONSGML v1.0//EN
BEGIN:VEVENT
UID:2860
DTSTART;VALUE=DATE:20150109
URL;VALUE=URI:ohschonhell.at/?page_id=5712
SUMMARY:The Gap Release ft. Cid Rim x Vihanna
LOCATION:BRUT
END:VEVENT
END:VCALENDAR


