BEGIN:VCALENDAR
VERSION:2.0
PRODID:-//hacksw/handcal//NONSGML v1.0//EN
BEGIN:VEVENT
UID:2865
DTSTART;VALUE=DATE:20150116
URL;VALUE=URI:ohschonhell.at/?page_id=5717
SUMMARY:ELECTRO SWING CARNEVAL presents SOUND NOMADEN (Nu Boheme/D)
LOCATION:CAFE LEOPOLD
END:VEVENT
END:VCALENDAR


