BEGIN:VCALENDAR
VERSION:2.0
PRODID:-//hacksw/handcal//NONSGML v1.0//EN
BEGIN:VEVENT
UID:2872
DTSTART;VALUE=DATE:20150103
URL;VALUE=URI:ohschonhell.at/?page_id=5728
SUMMARY:Get Whipped in January!
LOCATION:VOLKSGARTEN
END:VEVENT
END:VCALENDAR


