BEGIN:VCALENDAR
VERSION:2.0
PRODID:-//hacksw/handcal//NONSGML v1.0//EN
BEGIN:VEVENT
UID:2884
DTSTART;VALUE=DATE:20150110
URL;VALUE=URI:ohschonhell.at/?page_id=5741
SUMMARY:DUB:CANTINA pres. WOMBEATS with MONOLOGUE [ INNERGROUND REC / FOKUZ REC ]
LOCATION:WOMBATS THE LOUNGE
END:VEVENT
END:VCALENDAR


