BEGIN:VCALENDAR
VERSION:2.0
PRODID:-//hacksw/handcal//NONSGML v1.0//EN
BEGIN:VEVENT
UID:29
DTSTART;VALUE=DATE:20131117
URL;VALUE=URI:ohschonhell.at/?page_id=2426
SUMMARY:Red Bull Music Academy Bass Camp: The Cinematic Orchestra
LOCATION:BURGTHEATER
END:VEVENT
END:VCALENDAR


