BEGIN:VCALENDAR
VERSION:2.0
PRODID:-//hacksw/handcal//NONSGML v1.0//EN
BEGIN:VEVENT
UID:2904
DTSTART;VALUE=DATE:20150110
URL;VALUE=URI:ohschonhell.at/?page_id=5761
SUMMARY:zero gravity´s progressive special
LOCATION:FLEX CAFE
END:VEVENT
END:VCALENDAR


