BEGIN:VCALENDAR
VERSION:2.0
PRODID:-//hacksw/handcal//NONSGML v1.0//EN
BEGIN:VEVENT
UID:2906
DTSTART;VALUE=DATE:20150107
URL;VALUE=URI:ohschonhell.at/?page_id=5763
SUMMARY:ASTRA
LOCATION:ELEKTRO GÖNNER
END:VEVENT
END:VCALENDAR


