BEGIN:VCALENDAR
VERSION:2.0
PRODID:-//hacksw/handcal//NONSGML v1.0//EN
BEGIN:VEVENT
UID:2923
DTSTART;VALUE=DATE:20150116
URL;VALUE=URI:ohschonhell.at/?page_id=5782
SUMMARY:HEUTE FR. 16.01.  Nylon Royal\, Sass Music Club
LOCATION:SASS
END:VEVENT
END:VCALENDAR


