BEGIN:VCALENDAR
VERSION:2.0
PRODID:-//hacksw/handcal//NONSGML v1.0//EN
BEGIN:VEVENT
UID:2936
DTSTART;VALUE=DATE:20150123
URL;VALUE=URI:ohschonhell.at/?page_id=5800
SUMMARY:LÄNDLE TAKEOVER by STADTPARK MUSIK &amp\; SOUNDTERRASSE
LOCATION:SASS
END:VEVENT
END:VCALENDAR


