BEGIN:VCALENDAR
VERSION:2.0
PRODID:-//hacksw/handcal//NONSGML v1.0//EN
BEGIN:VEVENT
UID:2942
DTSTART;VALUE=DATE:20150124
URL;VALUE=URI:ohschonhell.at/?page_id=5806
SUMMARY:PLEMPLEM pres. LUIGI MADONNA /DRUMCODE - ITALY &amp\; KALDEN BESS - CANADA ➨ 웃유 • Die Kantine
LOCATION:DIE KANTINE
END:VEVENT
END:VCALENDAR


