BEGIN:VCALENDAR
VERSION:2.0
PRODID:-//hacksw/handcal//NONSGML v1.0//EN
BEGIN:VEVENT
UID:295
DTSTART;VALUE=DATE:20140101
URL;VALUE=URI:ohschonhell.at/?page_id=2782
SUMMARY:SUNDAY MORNINGS special: SILVESTER Afterhour at &gt\;&gt\; AUSLAGE &lt\;&lt\;
LOCATION:AUSLAGE
END:VEVENT
END:VCALENDAR


