BEGIN:VCALENDAR
VERSION:2.0
PRODID:-//hacksw/handcal//NONSGML v1.0//EN
BEGIN:VEVENT
UID:2951
DTSTART;VALUE=DATE:20150313
URL;VALUE=URI:ohschonhell.at/?page_id=5817
SUMMARY:WONDERLAND 3.0 @VIPER-ROOM with PROGGYfloor
LOCATION:VIPER ROOM
END:VEVENT
END:VCALENDAR


