BEGIN:VCALENDAR
VERSION:2.0
PRODID:-//hacksw/handcal//NONSGML v1.0//EN
BEGIN:VEVENT
UID:2956
DTSTART;VALUE=DATE:20150123
URL;VALUE=URI:ohschonhell.at/?page_id=5822
SUMMARY:BANDE À PART avec TELEPHONES
LOCATION:CAFE LEOPOLD
END:VEVENT
END:VCALENDAR


