BEGIN:VCALENDAR
VERSION:2.0
PRODID:-//hacksw/handcal//NONSGML v1.0//EN
BEGIN:VEVENT
UID:2960
DTSTART;VALUE=DATE:20150116
URL;VALUE=URI:ohschonhell.at/?page_id=5827
SUMMARY:StadtLandFluss@Elektro Gönner
LOCATION:ELEKTRO GÖNNER
END:VEVENT
END:VCALENDAR


